BEGIN:VCALENDAR
VERSION:2.0
PRODID:-//Futures Institute - ECPv6.15.14//NONSGML v1.0//EN
CALSCALE:GREGORIAN
METHOD:PUBLISH
X-ORIGINAL-URL:https://www.futuresbanbury.org
X-WR-CALDESC:Events for Futures Institute
REFRESH-INTERVAL;VALUE=DURATION:PT1H
X-Robots-Tag:noindex
X-PUBLISHED-TTL:PT1H
BEGIN:VTIMEZONE
TZID:Europe/London
BEGIN:DAYLIGHT
TZOFFSETFROM:+0000
TZOFFSETTO:+0100
TZNAME:BST
DTSTART:20240331T010000
END:DAYLIGHT
BEGIN:STANDARD
TZOFFSETFROM:+0100
TZOFFSETTO:+0000
TZNAME:GMT
DTSTART:20241027T010000
END:STANDARD
BEGIN:DAYLIGHT
TZOFFSETFROM:+0000
TZOFFSETTO:+0100
TZNAME:BST
DTSTART:20250330T010000
END:DAYLIGHT
BEGIN:STANDARD
TZOFFSETFROM:+0100
TZOFFSETTO:+0000
TZNAME:GMT
DTSTART:20251026T010000
END:STANDARD
BEGIN:DAYLIGHT
TZOFFSETFROM:+0000
TZOFFSETTO:+0100
TZNAME:BST
DTSTART:20260329T010000
END:DAYLIGHT
BEGIN:STANDARD
TZOFFSETFROM:+0100
TZOFFSETTO:+0000
TZNAME:GMT
DTSTART:20261025T010000
END:STANDARD
END:VTIMEZONE
BEGIN:VEVENT
DTSTART;TZID=Europe/London:20250612T163000
DTEND;TZID=Europe/London:20250612T183000
DTSTAMP:20260423T111011
CREATED:20250520T103023Z
LAST-MODIFIED:20250520T103023Z
UID:7410-1749745800-1749753000@www.futuresbanbury.org
SUMMARY:Year 8 Parents Evening
DESCRIPTION:
URL:https://www.futuresbanbury.org/event/year-8-parents-evening/
CATEGORIES:Events,Events for Parents
END:VEVENT
BEGIN:VEVENT
DTSTART;VALUE=DATE:20250625
DTEND;VALUE=DATE:20250626
DTSTAMP:20260423T111011
CREATED:20250520T103330Z
LAST-MODIFIED:20250520T103330Z
UID:7414-1750809600-1750895999@www.futuresbanbury.org
SUMMARY:End of Year Catch-Up All Vaccinations
DESCRIPTION:End of year catch-up on all vaccinations for Years 8 to 10. This round of vaccinations does not include flu virus.
URL:https://www.futuresbanbury.org/event/end-of-year-catch-up-all-vaccinations/
CATEGORIES:Events,Events for Parents
END:VEVENT
BEGIN:VEVENT
DTSTART;TZID=Europe/London:20250626T170000
DTEND;TZID=Europe/London:20250626T180000
DTSTAMP:20260423T111011
CREATED:20250520T103918Z
LAST-MODIFIED:20250613T154751Z
UID:7426-1750957200-1750960800@www.futuresbanbury.org
SUMMARY:Year 6 Parents Evening
DESCRIPTION:
URL:https://www.futuresbanbury.org/event/year-6-parents-evening/
CATEGORIES:Events for Parents
END:VEVENT
END:VCALENDAR